BEGIN:VCALENDAR
VERSION:2.0
PRODID:-//eventon.com NONSGML v1.0//EN
CALSCALE:GREGORIAN
METHOD:PUBLISH
BEGIN:VEVENT
UID:69e8ab98b3cca
DTSTAMP:20260422T110600Z
DTSTART:20240626T233000Z
DTEND:20240628T040000Z
LOCATION:
SUMMARY:FACA Annual CLE Seminar
DESCRIPTION:\nhttps://faca.fl-counties.com/events/faca-annual-cle-seminar/
URL:https://faca.fl-counties.com/events/faca-annual-cle-seminar/
END:VEVENT
END:VCALENDAR